Workbook

Sheet PRA
A1: INSTRUMEN PRA OBSERVASI MAPEL
A3: Nama Guru | C3: M. Ayup Khoirul Ikfan
A4: Kelas | C4: XI
A5: Mata Pelajaran | C5: Sejarah
A6: Materi Pokok | C6: Pendudukan Prancis di Hindia Belanda
A7: Sekolah | C7: SMA Negeri 2 Semarang
A8: Instrumen Penilaian
A9: No | B9: Indikator | D9: Skor (1 - 4) | E9: Komentar
A10: 1 | B10: Tujuan pembelajaran, langkah pembelajaran, dan asesmen pembelajaran sudah mengarah pada pencapaian Dimensi Profil Lulusan | D10: 3
A11: 2 | B11: Tujuan pembelajaran, langkah pembelajaran, dan asesmen pembelajaran sudah selaras | D11: 4
A12: 3 | B12: Praktik pedagogis yang dituliskan sudah tergambar pada langkah pembelajaran dan/atau asesmen pembelajaran | D12: 3
A13: 4 | B13: Lingkungan belajar yang dituliskan sudah tergambar pada langkah pembelajaran dan/atau asesmen pembelajaran | D13: 3
A14: 5 | B14: Kemitraan pembelajaran yang dituliskan sudah tergambar pada langkah pembelajaran dan/atau asesmen pembelajaran | D14: 3
A15: 6 | B15: Pemanfaatan digital yang dituliskan sudah tergambar pada langkah pembelajaran dan/atau asesmen pembelajaran | D15: 3
A16: 7 | B16: Langkah pembelajaran dapat memfasilitasi murid untuk merasakan pengalaman belajar MEMAHAMI (terlibat aktif mengonstruksi pengetahuan agar dapat memahami secara mendalam konsep atau materi dari berbagai sumber dan konteks). a. Menghubungkan pengetahuan baru dengan pengetahuan sebelumnya b. Menstimulasi proses berpikir murid c. Menghubungkan dengan konteks nyata dan/atau kehidupan sehari-hari d. Memberikan kebebasan eksploratif dan kolaboratif e. Menanamkan nilai-nilai moral dan etika dan nilai positif lainnya f. Mengaitkan pembelajaran dengan pembentukan karakter murid | D16: 3
A17: 8 | B17: Langkah pembelajaran dapat memfasilitasi murid untuk merasakan pengalaman belajar MENGAPLIKASI (mengaplikasi pemahaman secara kontekstual dalam kehidupan nyata sebagai bagian dari pendalaman pengetahuan) a. Menghubungkan konsep baru dengan pengetahuan sebelumnya. b. Menerapkan pengetahuan ke dalam situasi nyata atau bidang lain. c. Mengembangkan pemahaman dengan eksplorasi lebih lanjut. d. Berpikir Kritis dan mencari solusi inovatif berdasarkan pengetahuan yang ada. | D17: 3
A18: 9 | B18: Langkah pembelajaran dapat memfasilitasi murid untuk merasakan pengalaman belajar MEREFLEKSI (mengevaluasi dan memaknai proses serta hasil dari tindakan atau praktik nyata yang telah mereka lakukan dan menentukan tindaklanjut ke depan; serta mengelola proses belajarnya secara mandiri). a. Memotivasi diri sendiri untuk terus belajar bagaimana cara belajar b. Refleksi terhadap pencapaian tujuan pembelajaran (evaluasi diri) c. Menerapkan strategi berpikir d. Memiliki kemampuan metakognisi (meregulasi diri dalam pembelajaran) e. Meregulasi emosi dalam pembelajaran | D18: 3
A19: 10 | B19: Langkah perencanaan pembelajaran dapat memfasilitasi tindakan saling MEMULIAKAN antara Guru-Murid, Murid-Guru, Murid-Murid yang tercermin dalam bahasa verbal dan nonverbal | D19: 3
A20: 11 | B20: Prinsip pembelajaran mendalam berupa berkesadaran, bermakna, dan/atau menggembirakan sudah tergambar pada setiap pengalaman belajar di langkah pembelajaran | D20: 4
A21: 12 | B21: Perencanaan pembelajaran sudah mengakomodir pengalaman belajar yang sesuai dengan karakteristik peserta didik | D21: 3
... A24: 15 | B24: Asesmen hasil Pembelajaran direncanakan untuk mengukur pencapaian kompetensi sebagai bukti keberhasilan pembelajaran dengan beragam cara, antara lain: tes, portofolio, proyek, presentasi, dsb. | D24: 3
A25: Analisis Perencanaan Pembelajaran
A26: Kelebihan
A29: Perbaikan
A30: Frasa murid lebih diperbanyak
A32: Rekomendasi
A33: Pembelajaran Kontekstual
A35: Link Google drive perangkat
A36: https://drive.google.com/drive/folders/13ignk1jR0orjFDebWPiwDVPDBDQwQboD?usp=drive_link
A38: Total Skor | C38: =SUM(D10:D24) -> 47
A39: Nilai | C39: A
A40: Kriteria
D42: Semarang, 9 September 2026
A43: Guru yang diobservasi | D43: Penelaah
A49: M. Ayup Khoirul Ikfan | D49: Mohammad Khoiri, S.Pd., M.Si.
A50: NIP: 200201062025211008 | D50: NIP : 197505242008011010

Sheet OBSERVASI
A1: INSTRUMEN OBSERVASI IMPLEMENTASI PEMBELAJARAN MAPEL
A3: Nama Guru | C3: =PRA!C3 -> M. Ayup Khoirul Ikfan
A4: Kelas | C4: =PRA!C4 -> XI
A5: Mata Pelajaran | C5: =PRA!C5 -> Sejarah
A6: Materi Pokok | C6: =PRA!C6 -> Pendudukan Prancis di Hindia Belanda
A7: Tgl. Observasi | C7: 46287
A8: Observer | C8: Mohammad Khoiri, S.Pd., M.Si.
A9: Instrumen Observasi
A10: No | B10: Aspek | D10: Skor (1 - 4) | E10: Bukti | F10: Catatan
A11: 1 | B11: Tindakan implementasi perencanaan selaras dengan perencanaan pembelajaran pada: (a.) awal pembelajaran (b.) inti pembelajaran dalam proses memahami, mengaplikasi, dan merefleksi (c.) penutupan pembelajaran | D11: 4 | E11: https://drive.google.com/drive/folders/13ignk1jR0orjFDebWPiwDVPDBDQwQboD?usp=drive_link
A12: 2 | B12: (a.) Upaya mencapai tujuan pembelajaran menuju pencapaian dimensi profil lulusan selaras dengan perencanaan pembelajaran (b.) Upaya mencapai tujuan pembelajaran menuju pencapaian dimensi profil lulusan disesuaikan dengan konteks kebutuhan belajar siswa | D12: 4 | E12: https://drive.google.com/drive/folders/13ignk1jR0orjFDebWPiwDVPDBDQwQboD?usp=drive_link
A13: 3 | B13: (a.) Strategi pembelajaran yang diimplementasikan untuk mencapai tujuan sudah sesuai dengan perencanaan (b.) Strategi pembelajaran yang diimplementasikan untuk mencapai tujuan dimodifikasi agar sesuai dengan kebutuhan belajar dalam situasi kondisi yang ada (c.) Tantangan yang dihadapi dalam menggunakan strategi terlewati untuk memfasilitasi tercapainya CP | D13: 4 | E13: https://drive.google.com/drive/folders/13ignk1jR0orjFDebWPiwDVPDBDQwQboD?usp=drive_link
A14: 4 | B14: Lingkungan belajar yang diimplementasikan sudah tergambar pada langkah pembelajaran dan/atau asesmen pembelajaran | D14: 4 | E14: https://drive.google.com/drive/folders/13ignk1jR0orjFDebWPiwDVPDBDQwQboD?usp=drive_link
A15: 5 | B15: Kemitraan pembelajaran yang diimplementasikan sudah tergambar pada langkah pembelajaran dan/atau asesmen pembelajaran | D15: 3 | E15: https://drive.google.com/drive/folders/13ignk1jR0orjFDebWPiwDVPDBDQwQboD?usp=drive_link
A16: 6 | B16: Pemanfaatan digital yang diimplementasikan sudah tergambar pada langkah pembelajaran dan/atau asesmen pembelajaran | D16: 3 | E16: https://drive.google.com/drive/folders/13ignk1jR0orjFDebWPiwDVPDBDQwQboD?usp=drive_link
A17: 7 | B17: Langkah pembelajaran sudah memfasilitasi murid untuk merasakan pengalaman belajar MEMAHAMI (terlibat aktif mengonstruksi pengetahuan agar dapat memahami secara mendalam konsep atau materi dari berbagai sumber dan konteks). (a.) Menghubungkan pengetahuan baru dengan pengetahuan sebelumnya (b.) Menstimulasi proses berpikir murid (c.) Menghubungkan dengan konteks nyata dan/atau kehidupan sehari-hari (d.) Memberikan kebebasan eksploratif dan kolaboratif (e.) Menanamkan nilai-nilai moral dan etika dan nilai positif lainnya (f.) Mengaitkan pembelajaran dengan pembentukan karakter murid | D17: 4 | E17: https://drive.google.com/drive/folders/13ignk1jR0orjFDebWPiwDVPDBDQwQboD?usp=drive_link
A18: 8 | B18: Langkah pembelajaran dapat memfasilitasi murid untuk merasakan pengalaman belajar MENGAPLIKASI (mengaplikasi pemahaman secara kontekstual dalam kehidupan nyata sebagai bagian dari pendalaman pengetahuan) (a.) Menghubungkan konsep baru dengan pengetahuan sebelumnya. (b.) Menerapkan pengetahuan ke dalam situasi nyata atau bidang lain. (c.) Mengembangkan pemahaman dengan eksplorasi lebih lanjut. (d.) Berpikir Kritis dan mencari solusi inovatif berdasarkan pengetahuan yang ada. | D18: 4 | E18: https://drive.google.com/drive/folders/13ignk1jR0orjFDebWPiwDVPDBDQwQboD?usp=drive_link
A19: 9 | B19: Langkah pembelajaran dapat memfasilitasi murid untuk merasakan pengalaman belajar MEREFLEKSI (mengevaluasi dan memaknai proses serta hasil dari tindakan atau praktik nyata yang telah mereka lakukan dan menentukan tindaklanjut ke depan; serta mengelola proses belajarnya secara mandiri). (a.) Memotivasi diri sendiri untuk terus belajar bagaimana cara belajar (b.) Refleksi terhadap pencapaian tujuan pembelajaran (evaluasi diri) (c.) Menerapkan strategi berpikir (d.) Memiliki kemampuan metakognisi (meregulasi diri dalam pembelajaran) (e.) Meregulasi emosi dalam pembelajaran | D19: 3 | E19: https://drive.google.com/drive/folders/13ignk1jR0orjFDebWPiwDVPDBDQwQboD?usp=drive_link
A20: 10 | B20: Langkah perencanaan pembelajaran dapat memfasilitasi tindakan saling MEMULIAKAN antara Guru-Murid, Murid-Guru, Murid-Murid yang tercermin dalam bahasa verbal dan nonverbal | D20: 3 | E20: https://drive.google.com/drive/folders/13ignk1jR0orjFDebWPiwDVPDBDQwQboD?usp=drive_link
A21: 11 | B21: Prinsip pembelajaran mendalam berupa berkesadaran, bermakna, dan/atau menggembirakan sudah tergambar pada setiap pengalaman belajar di langkah pembelajaran | D21: 4 | E21: https://drive.google.com/drive/folders/13ignk1jR0orjFDebWPiwDVPDBDQwQboD?usp=drive_link
A22: 12 | B22: Praktik pembelajaran sudah mengakomodir pengalaman belajar yang sesuai dengan karakteristik peserta didik (umur, tingkat perkembangan, kemampuan, bakat dan minat, gaya belajar, dll.) | D22: 4 | E22: https://drive.google.com/drive/folders/13ignk1jR0orjFDebWPiwDVPDBDQwQboD?usp=drive_link
... A24: 14 | B24: Asesmen selama Proses Pembelajaran telah dilaksanakan sesuai perencanaan untuk memantau perkembangan belajar murid, memberikan umpan balik untuk perbaikan kontinyu (baik dari guru ke murid, maupun dari murid ke guru), melalui beragam teknik | D24: 4 | E24: https://drive.google.com/drive/folders/13ignk1jR0orjFDebWPiwDVPDBDQwQboD?usp=drive_link
A25: 15 | B25: Asesmen hasil Pembelajaran direncanakan untuk mengukur pencapaian kompetensi sebagai bukti keberhasilan pembelajaran dengan beragam cara, antara lain: tes, portofolio, proyek, presentasi, dsb. | D25: 3 | E25: https://drive.google.com/drive/folders/13ignk1jR0orjFDebWPiwDVPDBDQwQboD?usp=drive_link | J25: =15*4 -> 60
A27: Total Skor | C27: =SUM(D11:D25) -> 55
A28: Nilai | C28: =C27/J25*100 -> 91.666667
A29: Kriteria
A31: Pelajaran Diperoleh
A32: Hubungan Daendels dengan insfratruktur masa kini, murid lebih terbuka dan terpacu untuk berpendapat.
A33: Kendala
A34: waktu yang kurang panjang
A35: Tindak Lanjut
A36: Evaluasi, serta lebih kepada penyampaian nilai-nilai sejarah
D38: Semarang, 22 September 2026
A39: Guru yang diobservasi | D39: Observer
A43: =C3 -> M. Ayup Khoirul Ikfan | D43: =PRA!D49 -> Mohammad Khoiri, S.Pd., M.Si.
A44: =PRA!A50 -> NIP: 200201062025211008 | D44: =PRA!D50 -> NIP : 197505242008011010

Sheet PASCA
A1: INSTRUMEN PASCA OBSERVASI MAPEL
A3: Nama Guru | C3: =PRA!C3 -> M. Ayup Khoirul Ikfan
A4: Kelas | C4: =PRA!C4 -> XI
A5: Mata Pelajaran | C5: =PRA!C5 -> Sejarah
A6: Materi Pokok | C6: =PRA!C6 -> Pendudukan Prancis di Hindia Belanda
A7: Sekolah | C7: =PRA!C7 -> SMA Negeri 2 Semarang
A8: Refleksi Guru
A9: No | B9: Pertanyaan | D9: Jawaban
A10: 1 | B10: Bagaimana perasaan Anda saat melaksanakan pembelajaran?
A11: 2 | B11: Apa yang sudah berjalan baik sesuai rencana?
A12: 3 | B12: Apa tantangan utama yang dihadapi?
A13: 4 | B13: Bagaimana respon dan keterlibatan murid?
A14: 5 | B14: Apa yang akan dilakukan berbeda ke depan?
A15: Umpan Balik Observer
A16: No | B16: Aspek | D16: Kekuatan | F16: Area Pengembangan
A17: 1 | B17: Perencanaan Pembelajaran
A18: 2 | B18: Pelaksanaan Pembelajaran
A19: 3 | B19: Pengelolaan Kelas
A20: 4 | B20: Asesmen Pembelajaran
A21: 5 | B21: Refleksi & Tindak Lanjut
A22: Rencana Tindak Lanjut
A23: No | B23: Aspek | D23: Tindak Lanjut | E23: PJ | F23: Waktu
A24: 1 | B24: Perencanaan Pembelajaran
A25: 2 | B25: Pelaksanaan Pembelajaran
A26: 3 | B26: Pengelolaan Kelas
A27: 4 | B27: Asesmen Pembelajaran
A28: 5 | B28: Pengembangan Profesional Guru
E30: Semarang, 23 September 2026
A31: Guru yang diobservasi | E31: Observer
A35: =C3 -> M. Ayup Khoirul Ikfan | E35: =PRA!D49 -> Mohammad Khoiri, S.Pd., M.Si.
A36: =PRA!A50 -> NIP: 200201062025211008 | E36: =PRA!D50 -> NIP : 197505242008011010
